BEGIN:VCALENDAR
VERSION:2.0
METHOD:PUBLISH
PRODID:-//hacksw/handcal//NONSGML v1.0//EN
BEGIN:VEVENT
DTSTAMP:20260424T204846Z
DTSTART:20260405T100000Z
DTEND:20260405T110000Z
UID:20260405T100000Z-20260405T110000Z-925@www.firstccpaulding.org
SUMMARY:Easter Service
DESCRIPTION:
X-ALT-DESC;FMTTYPE=text/html:
URL:https://www.firstccpaulding.org/events/easter-service-3/?lang=en
ATTACH:https://www.firstccpaulding.org/events/easter-service-3/?lang=e
 n
LOCATION:Paulding First Christian Church\, 1233 Emerald Road\, Pauldin
 g
END:VEVENT
END:VCALENDAR
