BEGIN:VCALENDAR
VERSION:2.0
METHOD:PUBLISH
PRODID:-//hacksw/handcal//NONSGML v1.0//EN
BEGIN:VEVENT
DTSTAMP:20260424T204116Z
DTSTART:20260405T070000Z
DTEND:20260405T193000Z
UID:20260405T070000Z-20260405T193000Z-924@www.firstccpaulding.org
SUMMARY:Community Sunrise Service
DESCRIPTION:
X-ALT-DESC;FMTTYPE=text/html:
URL:https://www.firstccpaulding.org/events/community-sunrise-service-3
 /?lang=en
ATTACH:https://www.firstccpaulding.org/events/community-sunrise-servic
 e-3/?lang=en
LOCATION:Paulding Nazarene Church\, \,
END:VEVENT
END:VCALENDAR
