BEGIN:VCALENDAR
VERSION:2.0
METHOD:PUBLISH
PRODID:-//hacksw/handcal//NONSGML v1.0//EN
BEGIN:VEVENT
DTSTAMP:20260424T204337Z
DTSTART:20260403T120000Z
DTEND:20260403T123000Z
UID:20260403T120000Z-20260403T123000Z-923@www.firstccpaulding.org
SUMMARY:Community Good Friday Service
DESCRIPTION:
X-ALT-DESC;FMTTYPE=text/html:
URL:https://www.firstccpaulding.org/events/community-good-friday-servi
 ce-5/?lang=en
ATTACH:https://www.firstccpaulding.org/events/community-good-friday-se
 rvice-5/?lang=en
LOCATION:St. Paul Lutheran Church\, Flat Rock Dr.\, Paulding
END:VEVENT
END:VCALENDAR
