BEGIN:VCALENDAR
VERSION:2.0
METHOD:PUBLISH
PRODID:-//hacksw/handcal//NONSGML v1.0//EN
BEGIN:VEVENT
DTSTAMP:20260424T204326Z
DTSTART:20260402T180000Z
DTEND:20260402T183000Z
UID:20260402T180000Z-20260402T183000Z-922@www.firstccpaulding.org
SUMMARY:Maundy Thursday Service
DESCRIPTION:
X-ALT-DESC;FMTTYPE=text/html:
URL:https://www.firstccpaulding.org/events/maundy-thursday-service-5/?
 lang=en
ATTACH:https://www.firstccpaulding.org/events/maundy-thursday-service-
 5/?lang=en
LOCATION:Paulding First Christian Church\, 1233 Emerald Road\, Pauldin
 g
END:VEVENT
END:VCALENDAR
