BEGIN:VCALENDAR
VERSION:2.0
METHOD:PUBLISH
PRODID:-//hacksw/handcal//NONSGML v1.0//EN
BEGIN:VEVENT
DTSTAMP:20260424T210729Z
DTSTART:20260401T190000Z
DTEND:20260401T200000Z
UID:20260401T190000Z-20260401T200000Z-913@www.firstccpaulding.org
SUMMARY:Trustees Meeting
DESCRIPTION:
X-ALT-DESC;FMTTYPE=text/html:
URL:https://www.firstccpaulding.org/events/trustees-meeting-33/?lang=e
 n
ATTACH:https://www.firstccpaulding.org/events/trustees-meeting-33/?lan
 g=en
END:VEVENT
END:VCALENDAR
