BEGIN:VCALENDAR
VERSION:2.0
METHOD:PUBLISH
PRODID:-//hacksw/handcal//NONSGML v1.0//EN
BEGIN:VEVENT
DTSTAMP:20260424T204724Z
DTSTART:20260421T190000Z
DTEND:20260421T200000Z
UID:20260421T190000Z-20260421T200000Z-903@www.firstccpaulding.org
SUMMARY:Board Meeting
DESCRIPTION:
X-ALT-DESC;FMTTYPE=text/html:
URL:https://www.firstccpaulding.org/events/board-meeting-47/?lang=en
ATTACH:https://www.firstccpaulding.org/events/board-meeting-47/?lang=e
 n
END:VEVENT
END:VCALENDAR
