BEGIN:VCALENDAR
VERSION:2.0
METHOD:PUBLISH
PRODID:-//hacksw/handcal//NONSGML v1.0//EN
BEGIN:VEVENT
DTSTAMP:20260424T204614Z
DTSTART:20260407T120000Z
DTEND:20260407T130000Z
UID:20260407T120000Z-20260407T130000Z-893@www.firstccpaulding.org
SUMMARY:Worship/Membership/Tech Meeting
DESCRIPTION:
X-ALT-DESC;FMTTYPE=text/html:
URL:https://www.firstccpaulding.org/events/worshipmembershiptech-meeti
 ng-17/?lang=en
ATTACH:https://www.firstccpaulding.org/events/worshipmembershiptech-me
 eting-17/?lang=en
END:VEVENT
END:VCALENDAR
