BEGIN:VCALENDAR
VERSION:2.0
METHOD:PUBLISH
PRODID:-//hacksw/handcal//NONSGML v1.0//EN
BEGIN:VEVENT
DTSTAMP:20260424T210029Z
DTSTART:20260407T100000Z
DTEND:20260407T110000Z
UID:20260407T100000Z-20260407T110000Z-883@www.firstccpaulding.org
SUMMARY:Disciples Women's Ministry
DESCRIPTION:
X-ALT-DESC;FMTTYPE=text/html:
URL:https://www.firstccpaulding.org/events/disciples-womens-ministry-1
 4/?lang=en
ATTACH:https://www.firstccpaulding.org/events/disciples-womens-ministr
 y-14/?lang=en
END:VEVENT
END:VCALENDAR
