BEGIN:VCALENDAR
VERSION:2.0
METHOD:PUBLISH
PRODID:-//hacksw/handcal//NONSGML v1.0//EN
BEGIN:VEVENT
DTSTAMP:20260424T204347Z
DTSTART:20260418T090000Z
DTEND:20260418T100000Z
UID:20260418T090000Z-20260418T100000Z-873@www.firstccpaulding.org
SUMMARY:Men's Group
DESCRIPTION:
X-ALT-DESC;FMTTYPE=text/html:
URL:https://www.firstccpaulding.org/events/mens-group-26/?lang=en
ATTACH:https://www.firstccpaulding.org/events/mens-group-26/?lang=en
END:VEVENT
END:VCALENDAR
