BEGIN:VCALENDAR
VERSION:2.0
METHOD:PUBLISH
PRODID:-//hacksw/handcal//NONSGML v1.0//EN
BEGIN:VEVENT
DTSTAMP:20260424T204434Z
DTSTART:20260419T083000Z
DTEND:20260419T090000Z
UID:20260419T083000Z-20260419T090000Z-863@www.firstccpaulding.org
SUMMARY:Elders Meeting
DESCRIPTION:
X-ALT-DESC;FMTTYPE=text/html:
URL:https://www.firstccpaulding.org/events/elders-meeting-37/?lang=en
ATTACH:https://www.firstccpaulding.org/events/elders-meeting-37/?lang=
 en
END:VEVENT
END:VCALENDAR
