BEGIN:VCALENDAR
VERSION:2.0
METHOD:PUBLISH
PRODID:-//hacksw/handcal//NONSGML v1.0//EN
BEGIN:VEVENT
DTSTAMP:20260424T204327Z
DTSTART:20260426T090000Z
DTEND:20260426T094500Z
UID:20260426T090000Z-20260426T094500Z-848@www.firstccpaulding.org
SUMMARY:Sunday School Class for Adults
DESCRIPTION:
X-ALT-DESC;FMTTYPE=text/html:
URL:https://www.firstccpaulding.org/events/sunday-school-class-for-adu
 lts-34/?lang=en
ATTACH:https://www.firstccpaulding.org/events/sunday-school-class-for-
 adults-34/?lang=en
LOCATION:Paulding First Christian Church\, 1233 Emerald Road\, Pauldin
 g
END:VEVENT
END:VCALENDAR
