BEGIN:VCALENDAR
VERSION:2.0
METHOD:PUBLISH
PRODID:-//hacksw/handcal//NONSGML v1.0//EN
BEGIN:VEVENT
DTSTAMP:20260424T205803Z
DTSTART:20260329T090000Z
DTEND:20260329T094500Z
UID:20260329T090000Z-20260329T094500Z-844@www.firstccpaulding.org
SUMMARY:Sunday School Class for Adults
DESCRIPTION:
X-ALT-DESC;FMTTYPE=text/html:
URL:https://www.firstccpaulding.org/events/sunday-school-class-for-adu
 lts-30/?lang=en
ATTACH:https://www.firstccpaulding.org/events/sunday-school-class-for-
 adults-30/?lang=en
LOCATION:Paulding First Christian Church\, 1233 Emerald Road\, Pauldin
 g
END:VEVENT
END:VCALENDAR
