BEGIN:VCALENDAR
VERSION:2.0
METHOD:PUBLISH
PRODID:-//hacksw/handcal//NONSGML v1.0//EN
BEGIN:VEVENT
DTSTAMP:20260424T174156Z
DTSTART:20220724T090000Z
DTEND:20220724T100000Z
UID:20220724T090000Z-20220724T100000Z-72@www.firstccpaulding.org
SUMMARY:Coffee & Conversation
DESCRIPTION:
X-ALT-DESC;FMTTYPE=text/html:
URL:https://www.firstccpaulding.org/events/coffee-conversation-33/?lan
 g=en
ATTACH:https://www.firstccpaulding.org/events/coffee-conversation-33/?
 lang=en
LOCATION:Paulding First Christian Church\, 1233 Emerald Road\, Pauldin
 g
END:VEVENT
END:VCALENDAR
