BEGIN:VCALENDAR
VERSION:2.0
METHOD:PUBLISH
PRODID:-//hacksw/handcal//NONSGML v1.0//EN
BEGIN:VEVENT
DTSTAMP:20260421T014640Z
DTSTART:20250316T110000Z
DTEND:20250316T120000Z
UID:20250316T110000Z-20250316T120000Z-693@www.firstccpaulding.org
SUMMARY:Bell Choir Practice
DESCRIPTION:
X-ALT-DESC;FMTTYPE=text/html:
URL:https://www.firstccpaulding.org/events/bell-choir-practice-98/?lan
 g=en
ATTACH:https://www.firstccpaulding.org/events/bell-choir-practice-98/?
 lang=en
END:VEVENT
END:VCALENDAR
