BEGIN:VCALENDAR
VERSION:2.0
METHOD:PUBLISH
PRODID:-//hacksw/handcal//NONSGML v1.0//EN
BEGIN:VEVENT
DTSTAMP:20260421T152413Z
DTSTART:20240710T183000Z
DTEND:20240710T193000Z
UID:20240710T183000Z-20240710T193000Z-519@www.firstccpaulding.org
SUMMARY:Stewardship/Finance Meeting
DESCRIPTION:
X-ALT-DESC;FMTTYPE=text/html:
URL:https://www.firstccpaulding.org/events/stewardshipfinance-meeting-
 14/?lang=en
ATTACH:https://www.firstccpaulding.org/events/stewardshipfinance-meeti
 ng-14/?lang=en
END:VEVENT
END:VCALENDAR
