BEGIN:VCALENDAR
VERSION:2.0
METHOD:PUBLISH
PRODID:-//hacksw/handcal//NONSGML v1.0//EN
BEGIN:VEVENT
DTSTAMP:20260422T083322Z
DTSTART:20230321T190000Z
DTEND:20230321T200000Z
UID:20230321T190000Z-20230321T200000Z-168@www.firstccpaulding.org
SUMMARY:Board Meeting
DESCRIPTION:
X-ALT-DESC;FMTTYPE=text/html:
URL:https://www.firstccpaulding.org/events/board-meeting-13/?lang=en
ATTACH:https://www.firstccpaulding.org/events/board-meeting-13/?lang=e
 n
END:VEVENT
END:VCALENDAR
